BEGIN:VCALENDAR
VERSION:2.0
PRODID:-//Global Foundation - ECPv6.15.20//NONSGML v1.0//EN
CALSCALE:GREGORIAN
METHOD:PUBLISH
X-WR-CALNAME:Global Foundation
X-ORIGINAL-URL:https://gfoundation.ca
X-WR-CALDESC:Events for Global Foundation
REFRESH-INTERVAL;VALUE=DURATION:PT1H
X-Robots-Tag:noindex
X-PUBLISHED-TTL:PT1H
BEGIN:VTIMEZONE
TZID:America/Edmonton
BEGIN:DAYLIGHT
TZOFFSETFROM:-0700
TZOFFSETTO:-0600
TZNAME:MDT
DTSTART:20240310T090000
END:DAYLIGHT
BEGIN:STANDARD
TZOFFSETFROM:-0600
TZOFFSETTO:-0700
TZNAME:MST
DTSTART:20241103T080000
END:STANDARD
BEGIN:DAYLIGHT
TZOFFSETFROM:-0700
TZOFFSETTO:-0600
TZNAME:MDT
DTSTART:20250309T090000
END:DAYLIGHT
BEGIN:STANDARD
TZOFFSETFROM:-0600
TZOFFSETTO:-0700
TZNAME:MST
DTSTART:20251102T080000
END:STANDARD
BEGIN:DAYLIGHT
TZOFFSETFROM:-0700
TZOFFSETTO:-0600
TZNAME:MDT
DTSTART:20260308T090000
END:DAYLIGHT
BEGIN:STANDARD
TZOFFSETFROM:-0600
TZOFFSETTO:-0700
TZNAME:MST
DTSTART:20261101T080000
END:STANDARD
BEGIN:DAYLIGHT
TZOFFSETFROM:-0700
TZOFFSETTO:-0600
TZNAME:MDT
DTSTART:20270314T090000
END:DAYLIGHT
BEGIN:STANDARD
TZOFFSETFROM:-0600
TZOFFSETTO:-0700
TZNAME:MST
DTSTART:20271107T080000
END:STANDARD
END:VTIMEZONE
BEGIN:VEVENT
DTSTART;TZID=America/Edmonton:20260522T000000
DTEND;TZID=America/Edmonton:20260522T235959
DTSTAMP:20260423T180515
CREATED:20260412T171507Z
LAST-MODIFIED:20260412T171507Z
UID:5321-1779408000-1779494399@gfoundation.ca
SUMMARY:Commemoration of UN Biodiversity Convention
DESCRIPTION:Acting locally for global impact” is the theme of the 2026 edition of the International Day for Biological Diversity (IDB).  \n\nInternational Day for Biological Diversity 2026: Acting locally for global impact\n\nThe IDB 2026 official logo will be revealed in the first week of April 2026. 
URL:https://gfoundation.ca/event/commemoration-of-un-biodiversity-convention/
END:VEVENT
BEGIN:VEVENT
DTSTART;TZID=America/Edmonton:20260329T010000
DTEND;TZID=America/Edmonton:20260329T150000
DTSTAMP:20260423T180515
CREATED:20250306T230355Z
LAST-MODIFIED:20260209T161558Z
UID:2653-1774746000-1774796400@gfoundation.ca
SUMMARY:GF Board Meeting - Edmonton
DESCRIPTION:
URL:https://gfoundation.ca/event/gf-board-meeting-edmonton/
LOCATION:Location TBA
ATTACH;FMTTYPE=image/png:https://gfoundation.ca/wp-content/uploads/2025/03/TGF_Solid_Internet.png
END:VEVENT
BEGIN:VEVENT
DTSTART;TZID=America/Edmonton:20250426T000000
DTEND;TZID=America/Edmonton:20250427T235959
DTSTAMP:20260423T180515
CREATED:20250403T144735Z
LAST-MODIFIED:20250403T144735Z
UID:2731-1745625600-1745798399@gfoundation.ca
SUMMARY:Tofield Snow Goose Festival
DESCRIPTION:
URL:https://gfoundation.ca/event/tofield-snow-goose-festival/
END:VEVENT
BEGIN:VEVENT
DTSTART;TZID=America/Edmonton:20250421T000000
DTEND;TZID=America/Edmonton:20250424T235959
DTSTAMP:20260423T180515
CREATED:20250306T230515Z
LAST-MODIFIED:20250306T231021Z
UID:2662-1745193600-1745539199@gfoundation.ca
SUMMARY:Earth Day & Earth Week
DESCRIPTION:
URL:https://gfoundation.ca/event/earth-day-earth-week/
END:VEVENT
BEGIN:VEVENT
DTSTART;TZID=America/Edmonton:20250420T080000
DTEND;TZID=America/Edmonton:20250425T170000
DTSTAMP:20260423T180515
CREATED:20250316T142304Z
LAST-MODIFIED:20250316T160143Z
UID:2667-1745136000-1745600400@gfoundation.ca
SUMMARY:Congress of Union Retirees of Canada (CURC)  "Earth Day & Week events"
DESCRIPTION:The Congress Of Union Retirees (CURC) will call on their members across the country to submit a pledge to plant trees\, wherever they live in Canada and to register their activity\,  as part of a plan to  build a virtual forest over the next decade.
URL:https://gfoundation.ca/event/congress-of-union-retirees-of-canada-curc-seniors-for-climate-action-for-earth-day-week-events/
ATTACH;FMTTYPE=image/png:https://gfoundation.ca/wp-content/uploads/2024/03/Picture2.png
END:VEVENT
BEGIN:VEVENT
DTSTART;TZID=America/Edmonton:20250313T060000
DTEND;TZID=America/Edmonton:20250313T193000
DTSTAMP:20260423T180515
CREATED:20250306T215006Z
LAST-MODIFIED:20250306T215006Z
UID:2647-1741845600-1741894200@gfoundation.ca
SUMMARY:GF Working Group: Miquelon Watershed Stewardship Committee zoom meeting
DESCRIPTION:
URL:https://gfoundation.ca/event/gf-working-group-miquelon-watershed-stewardship-committee-zoom-meeting/
LOCATION:Zoom\, Alberta\, Canada\, Canada
END:VEVENT
BEGIN:VEVENT
DTSTART;TZID=America/Edmonton:20250311T180000
DTEND;TZID=America/Edmonton:20250311T200000
DTSTAMP:20260423T180515
CREATED:20250306T224932Z
LAST-MODIFIED:20250306T224932Z
UID:2650-1741716000-1741723200@gfoundation.ca
SUMMARY:Beaver Hills Biosphere Open House
DESCRIPTION:
URL:https://gfoundation.ca/event/beaver-hills-biosphere-open-house/
LOCATION:Sherwood Park
END:VEVENT
END:VCALENDAR